BEGIN:VCALENDAR
VERSION:2.0
PRODID:icalendar-ruby
CALSCALE:GREGORIAN
METHOD:PUBLISH
BEGIN:VEVENT
DTSTAMP:20260421T100322Z
UID:13-372556@mauirevival.org
DTSTART:20260523T200000Z
DTEND:20260524T080000Z
CLASS:PUBLIC
CREATED:20260417T233030
DESCRIPTION:
LAST-MODIFIED:20260417T233030
LOCATION:
SUMMARY:Barrio Fiesta
URL;VALUE=URI:https://www.mauirevival.org/events/barrio-fiesta--13/2026-05-
 23
ATTACH;FILENAME=TITLE.jpg;FMTTYPE=image/jpeg:https://dq5pwpg1q8ru0.cloudfro
 nt.net/2026/04/18/09/30/30/009aaa8d-3f12-4014-8d63-f8cec3f7000c/TITLE.jpg
END:VEVENT
END:VCALENDAR
